Workbook

Sheet Hoja3
A1: tabla | B1: SIGLA
A2: Universidad del Desarrollo | B2: UDD
A3: Universidad Bernardo O'higginis | B3: UBO
A4: Universidad Autonoma de Chile | B4: UA
A5: Universidad de los Andes | B5: UANDES
A6: Universidad San Sebastian | B6: USS
A7: Univerisdad Andres Bello | B7: UNAB
A8: Univerisidad Adolfo Ibañez | B8: UAI
A9: Universidad Mayor | B9: U.MAYOR
A10: Universidad Santo Tomas | B10: UST

Sheet Ppto General
A1: PLANILLA DE PRESUPUESTO PROYECTOS
A3: IDENTIFICACIÓN | B3: DETALLE
A4: NOMBRE DEL PROYECO
A5: CODIGO DEL PROYECTO
A6: PLAZO EN MESES
A7: INV. PRINCIPAL UDD
A8: INV. PRINCIPAL UBO
A9: INV. PRINCIPAL UA
A10: INV. PRINCIPAL UANDES
A11: INV. PRINCIPAL USS
A12: INV. PRINCIPAL UAI
A13: INV. PRINCIPAL U.MAYOR
A14: INV. PRINCIPAL UST
A17: ITEM (Señalar nombre y cargo) | B17: INSTITUCIÓN ACADEMICA | C17: HONORARIOS ó INCENTIVOS M$/MES | D17: DEDICACION AL PROYECTO % DE JORNADA | E17: MESES A CONTRATAR Nº | F17: TOTAL PROYECTO M$
A20: GASTOS EN PERSONAL
A21: PROFESIONALES EXPERTOS
A27: PERSONAL TÉCNICOS
A33: AYUDANTES DE INVESTIGACION
A39: TESISTAS (PRE Y POST GRADO)
A45: SUBTOTAL
A47: ITEM (Señalar Actividad) | B47: INSTITUCIÓN ACADEMICA | C47: DESTINO | D47: N° UNIDADES | E47: MONTO | F47: TOTAL PROYECTO M$
A50: GASTOS DE OPERACIÓN
A51: VIAJES (PASAJES Y VIATICOS NACIONALES)
F52: 0
F53: 0
F54: 0
F55: =+C55*E55 -> 0
F56: =+C56*E56 -> 0
F57: =+C57*E57 -> 0
F58: =+C58*E58 -> 0
F59: =SUM(F52:F58) -> 0
A65: SUBTOTAL | F65: =SUM(F62:F64) -> 0
A67: DIFUSION
A73: SUBTOTAL | F73: =SUM(F68:F72) -> 0
A75: OTROS GASTOS DE OPERACIÓN (FUNGIBLES, SOFTWARE, CAPACITACION, ETC)
A85: COSTO TOTAL DEL PROYECTO | F85: =+F45+F59+F65+F73+F82 -> 0

Sheet Ppto x Univ
A1: COSTO TOTAL DEL PROYECTO POR UNIVERSIDAD
A4: ÍTEM | B4: UDD | C4: UBO | D4: UA | E4: UANDES | F4: USS | G4: UAI | H4: U.MAYOR | I4: UST
A5: PERSONAL | B5: =SUM(B6:B9) -> 0 | C5: =SUM(C6:C9) -> 0 | D5: =SUM(D6:D9) -> 0 | E5: 0 | F5: =SUM(F6:F9) -> 0 | G5: =SUM(G6:G9) -> 0 | H5: =SUM(H6:H9) -> 0 | I5: =SUM(I6:I9) -> 0
A6: PROFESIONALES EXPERTOS | B6: =+SUMIF('Ppto General'!$B$22:$B$26,"UDD",'Ppto General'!$F$22:$F$26) -> 0 | C6: =+SUMIF('Ppto General'!$B$22:$B$26,"UBO",'Ppto General'!$F$22:$F$26) -> 0 | D6: =+SUMIF('Ppto General'!$B$22:$B$26,"UA",'Ppto General'!$F$22:$F$26) -> 0 | E6: =SUM(E7:E10) -> 0 | F6: =+SUMIF('Ppto General'!$B$22:$B$26,"USS",'Ppto General'!$F$22:$F$26) -> 0 | G6: =+SUMIF('Ppto General'!$B$22:$B$26,"UAI",'Ppto General'!$F$22:$F$26) -> 0 | H6: =+SUMIF('Ppto General'!$B$22:$B$26,"U.MAYOR",'Ppto General'!$F$22:$F$26) -> 0 | I6: =SUM(I7:I10) -> 0
A7: PERSONAL TÉCNICOS | B7: =+SUMIF('Ppto General'!$B$28:$B$32,"UDD",'Ppto General'!$F$28:$F$32) -> 0 | C7: =+SUMIF('Ppto General'!$B$28:$B$32,"UBO",'Ppto General'!$F$28:$F$32) -> 0 | D7: =+SUMIF('Ppto General'!$B$28:$B$32,"UA",'Ppto General'!$F$28:$F$32) -> 0 | E7: =SUM(E8:E11) -> 0 | F7: =+SUMIF('Ppto General'!$B$28:$B$32,"USS",'Ppto General'!$F$28:$F$32) -> 0 | G7: =+SUMIF('Ppto General'!$B$28:$B$32,"UAI",'Ppto General'!$F$28:$F$32) -> 0 | H7: =+SUMIF('Ppto General'!$B$28:$B$32,"U.MAYOR",'Ppto General'!$F$28:$F$32) -> 0 | I7: =SUM(I8:I11) -> 0
A8: AYUDANTES DE INVESTIGACION | B8: =+SUMIF('Ppto General'!$B$34:$B$38,"UDD",'Ppto General'!$F$34:$F$38) -> 0 | C8: =+SUMIF('Ppto General'!$B$34:$B$38,"UBO",'Ppto General'!$F$34:$F$38) -> 0 | D8: =+SUMIF('Ppto General'!$B$34:$B$38,"UA",'Ppto General'!$F$34:$F$38) -> 0 | E8: =SUM(E9:E12) -> 0 | F8: =+SUMIF('Ppto General'!$B$34:$B$38,"USS",'Ppto General'!$F$34:$F$38) -> 0 | G8: =+SUMIF('Ppto General'!$B$34:$B$38,"UAI",'Ppto General'!$F$34:$F$38) -> 0 | H8: =+SUMIF('Ppto General'!$B$34:$B$38,"U.MAYOR",'Ppto General'!$F$34:$F$38) -> 0 | I8: =SUM(I9:I12) -> 0
A9: TESISTAS (PRE Y POST GRADO) | B9: =+SUMIF('Ppto General'!$B$40:$B$44,"UDD",'Ppto General'!$F$40:$F$44) -> 0 | C9: =+SUMIF('Ppto General'!$B$40:$B$44,"UBO",'Ppto General'!$F$40:$F$44) -> 0 | D9: =+SUMIF('Ppto General'!$B$40:$B$44,"UA",'Ppto General'!$F$40:$F$44) -> 0 | E9: =SUM(E10:E13) -> 0 | F9: =+SUMIF('Ppto General'!$B$40:$B$44,"USS",'Ppto General'!$F$40:$F$44) -> 0 | G9: =+SUMIF('Ppto General'!$B$40:$B$44,"UAI",'Ppto General'!$F$40:$F$44) -> 0 | H9: =+SUMIF('Ppto General'!$B$40:$B$44,"U.MAYOR",'Ppto General'!$F$40:$F$44) -> 0 | I9: =SUM(I10:I13) -> 0
A10: GASTOS DE OPERACIÓN | B10: =SUM(B11:B14) -> 0 | C10: =SUM(C11:C14) -> 0 | D10: =SUM(D11:D14) -> 0 | E10: =SUM(E11:E14) -> 0 | F10: =SUM(F11:F14) -> 0 | G10: =SUM(G11:G14) -> 0 | H10: =SUM(H11:H14) -> 0 | I10: =SUM(I11:I14) -> 0
A11: VIAJES (PASAJES Y VIATICOS NACIONALES) | B11: =+SUMIF('Ppto General'!$B$52:$B$58,"UDD",'Ppto General'!$F$52:$F$58) -> 0 | C11: =+SUMIF('Ppto General'!$B$52:$B$58,"UBO",'Ppto General'!$F$52:$F$58) -> 0 | D11: =+SUMIF('Ppto General'!$B$52:$B$58,"UA",'Ppto General'!$F$52:$F$58) -> 0 | E11: =SUM(E12:E15) -> 0 | F11: =+SUMIF('Ppto General'!$B$52:$B$58,"USS",'Ppto General'!$F$52:$F$58) -> 0 | G11: =+SUMIF('Ppto General'!$B$52:$B$58,"UAI",'Ppto General'!$F$52:$F$58) -> 0 | H11: =+SUMIF('Ppto General'!$B$52:$B$58,"U.MAYOR",'Ppto General'!$F$52:$F$58) -> 0 | I11: =SUM(I12:I15) -> 0
A12: PUBLICACIONES | B12: =+SUMIF('Ppto General'!$B$62:$B$64,"UDD",'Ppto General'!$F$62:$F$64) -> 0 | C12: =+SUMIF('Ppto General'!$B$62:$B$64,"UBO",'Ppto General'!$F$62:$F$64) -> 0 | D12: =+SUMIF('Ppto General'!$B$62:$B$64,"UA",'Ppto General'!$F$62:$F$64) -> 0 | E12: =SUM(E13:E16) -> 0 | F12: =+SUMIF('Ppto General'!$B$62:$B$64,"USS",'Ppto General'!$F$62:$F$64) -> 0 | G12: =+SUMIF('Ppto General'!$B$62:$B$64,"UAI",'Ppto General'!$F$62:$F$64) -> 0 | H12: =+SUMIF('Ppto General'!$B$62:$B$64,"U.MAYOR",'Ppto General'!$F$62:$F$64) -> 0 | I12: =SUM(I13:I16) -> 0
A13: DIFUSION | B13: =+SUMIF('Ppto General'!$B$68:$B$72,"UDD",'Ppto General'!$F$68:$F$72) -> 0 | C13: =+SUMIF('Ppto General'!$B$68:$B$72,"UBO",'Ppto General'!$F$68:$F$72) -> 0 | D13: =+SUMIF('Ppto General'!$B$68:$B$72,"UA",'Ppto General'!$F$68:$F$72) -> 0 | E13: =SUM(E14:E17) -> 0 | F13: =+SUMIF('Ppto General'!$B$68:$B$72,"USS",'Ppto General'!$F$68:$F$72) -> 0 | G13: =+SUMIF('Ppto General'!$B$68:$B$72,"UAI",'Ppto General'!$F$68:$F$72) -> 0 | H13: =+SUMIF('Ppto General'!$B$68:$B$72,"U.MAYOR",'Ppto General'!$F$68:$F$72) -> 0 | I13: =SUM(I14:I17) -> 0
A14: OTROS GASTOS DE OPERACIÓN (FUNGIBLES, SOFTWARE, CAPACITACION, ETC) | B14: =+SUMIF('Ppto General'!$B$76:$B$81,"UDD",'Ppto General'!$F$76:$F$81) -> 0 | C14: =+SUMIF('Ppto General'!$B$76:$B$81,"UBO",'Ppto General'!$F$76:$F$81) -> 0 | D14: =+SUMIF('Ppto General'!$B$76:$B$81,"UA",'Ppto General'!$F$76:$F$81) -> 0 | E14: =SUM(E15:E18) -> 0 | F14: =+SUMIF('Ppto General'!$B$76:$B$81,"USS",'Ppto General'!$F$76:$F$81) -> 0 | G14: =+SUMIF('Ppto General'!$B$76:$B$81,"UAI",'Ppto General'!$F$76:$F$81) -> 0 | H14: =+SUMIF('Ppto General'!$B$76:$B$81,"U.MAYOR",'Ppto General'!$F$76:$F$81) -> 0 | I14: =SUM(I15:I18) -> 0
A15: TOTAL | B15: =+B5+B10 -> 0 | C15: =+C5+C10 -> 0 | D15: =+D5+D10 -> 0 | E15: =SUM(E16:E19) -> 0 | F15: =+F5+F10 -> 0 | G15: =+G5+G10 -> 0 | H15: =+H5+H10 -> 0 | I15: =SUM(I16:I19) -> 0
